BEGIN:VCALENDAR
VERSION:2.0
PRODID:-//Tukios.com/
BEGIN:VEVENT
UID:fa2f4f00-6cb6-4365-ac5a-00e9ea1731bc@www.smithfamilyfh.com
DTSTAMP:20260423T202325Z
DTSTART:20260426T190000Z
DTEND:20260426T200000Z
SUMMARY:Memorial Service
DESCRIPTION:
URL:https://www.smithfamilyfh.com/obituaries/peggy-brown
LOCATION: 220 North Reynolds Avenue  Throckmorton TX 76483
GEO:33.1811119;-99.178466
END:VEVENT
END:VCALENDAR