BEGIN:VCALENDAR
VERSION:2.0
PRODID:-//Tukios.com/
BEGIN:VEVENT
UID:1ef25333-10b4-4a13-b847-e8cf22b6fa84@www.smithfamilyfh.com
DTSTAMP:20260423T201740Z
DTSTART:20260425T200000Z
DTEND:20260425T213000Z
SUMMARY:Visitation
DESCRIPTION:
URL:https://www.smithfamilyfh.com/obituaries/peggy-brown
LOCATION: 220 North Reynolds Avenue  Throckmorton TX 76483
GEO:33.1811119;-99.178466
END:VEVENT
END:VCALENDAR